BEGIN:VCALENDAR
PRODID:-//github.com/rianjs/ical.net//NONSGML ical.net 4.0//EN
VERSION:2.0
BEGIN:VEVENT
CLASS:PUBLIC
CREATED:20260417T132019
DESCRIPTION:
DTEND:20260622T143000
DTSTAMP:20260417T122019Z
DTSTART:20260622T133000
LOCATION:Istead Rise Community Centre\, Worcester Close\,DA13 9LB
SEQUENCE:0
STATUS:
SUMMARY:Public Engagement
UID:4F181C81EFA0B5FB3DEB058EE3213E62
END:VEVENT
END:VCALENDAR
