BEGIN:VCALENDAR
PRODID:-//github.com/rianjs/ical.net//NONSGML ical.net 4.0//EN
VERSION:2.0
BEGIN:VEVENT
CLASS:PUBLIC
CREATED:20260417T131720
DESCRIPTION:
DTEND:20260520T143000
DTSTAMP:20260417T121720Z
DTSTART:20260520T133000
LOCATION:Istead Rise Community Centre\, Worcester Close\,DA13 9LB
SEQUENCE:0
STATUS:
SUMMARY:Public Engagement
UID:455443F38338B5E68988E260C4962FA0
END:VEVENT
END:VCALENDAR
