BEGIN:VCALENDAR
PRODID:-//github.com/rianjs/ical.net//NONSGML ical.net 4.0//EN
VERSION:2.0
BEGIN:VEVENT
CLASS:PUBLIC
CREATED:20260417T125122
DESCRIPTION:
DTEND:20260528T144500
DTSTAMP:20260417T115122Z
DTSTART:20260528T131500
LOCATION:Heart of Headcorn (Behind Methodist Church)\,TN27 9NE
SEQUENCE:0
SUMMARY:Headcorn Community Surgery
UID:233C744D67D3C52F250DDD60AC2EBF11
END:VEVENT
END:VCALENDAR
