BEGIN:VCALENDAR
PRODID:-//github.com/rianjs/ical.net//NONSGML ical.net 4.0//EN
VERSION:2.0
BEGIN:VEVENT
CLASS:PUBLIC
CREATED:20260417T085826
DESCRIPTION:
DTEND:20260911T100000
DTSTAMP:20260417T075826Z
DTSTART:20260911T090000
LOCATION:Tennyson Avenue\,CT1
SEQUENCE:0
SUMMARY:Engagement with residents of Northgate ward.
UID:7C042F7AF4FEE681E362AC9BD26301AC
END:VEVENT
END:VCALENDAR
