BEGIN:VCALENDAR
PRODID:-//github.com/rianjs/ical.net//NONSGML ical.net 4.0//EN
VERSION:2.0
BEGIN:VEVENT
CLASS:PUBLIC
CREATED:20260417T084200
DESCRIPTION:
DTEND:20260814T100000
DTSTAMP:20260417T074200Z
DTSTART:20260814T090000
LOCATION:Tennyson Avenue\,CT1
SEQUENCE:0
SUMMARY:Engagement with residents of Northgate Ward.
UID:D6B146D6DBCFA170C89DD138FBE89522
END:VEVENT
END:VCALENDAR
