BEGIN:VCALENDAR
PRODID:-//github.com/rianjs/ical.net//NONSGML ical.net 4.0//EN
VERSION:2.0
BEGIN:VEVENT
CLASS:PUBLIC
CREATED:20260417T083838
DESCRIPTION:
DTEND:20260715T100000
DTSTAMP:20260417T073838Z
DTSTART:20260715T090000
LOCATION:Tennyson Avenue\,CT1
SEQUENCE:0
SUMMARY:Engagement with the residents of Northgate ward.
UID:1F0CE4F59C3A2C155ED46C2B102DF85B
END:VEVENT
END:VCALENDAR
