BEGIN:VCALENDAR
PRODID:-//github.com/rianjs/ical.net//NONSGML ical.net 4.0//EN
VERSION:2.0
BEGIN:VEVENT
CLASS:PUBLIC
CREATED:20260416T160342
DESCRIPTION:
DTEND:20260430T160000
DTSTAMP:20260416T150342Z
DTSTART:20260430T140000
LOCATION:Malvern Link Station\, Howsell Road\,WR14 1SF
SEQUENCE:0
STATUS:
SUMMARY:Bike Marking Event with your Safer Neighbourhood Team and British 
 Transport Police
UID:949E88D7484BDF9CCFFC223A6D7B9F13
END:VEVENT
END:VCALENDAR
