BEGIN:VCALENDAR
PRODID:-//github.com/rianjs/ical.net//NONSGML ical.net 4.0//EN
VERSION:2.0
BEGIN:VEVENT
CLASS:PUBLIC
CREATED:20260416T134657
DESCRIPTION:
DTEND:20260626T130000
DTSTAMP:20260416T124657Z
DTSTART:20260626T103000
LOCATION:The Park Cafe\, \,NN1 5LW
SEQUENCE:0
STATUS:
SUMMARY:Beat Bus Surgery - The Park Cafe\, Abington Park
UID:2250D3560A6A7884F6466EA64482CC9E
END:VEVENT
END:VCALENDAR
