BEGIN:VCALENDAR
PRODID:-//github.com/rianjs/ical.net//NONSGML ical.net 4.0//EN
VERSION:2.0
BEGIN:VEVENT
CLASS:PUBLIC
CREATED:20260416T134305
DESCRIPTION:
DTEND:20260609T170000
DTSTAMP:20260416T124305Z
DTSTART:20260609T140000
LOCATION:The Park Cafe\, \,NN1 5LW
SEQUENCE:0
STATUS:
SUMMARY:Beat Bus Surgery - The Park Cafe\, Abington Park
END:VEVENT
END:VCALENDAR
