BEGIN:VCALENDAR
PRODID:-//github.com/rianjs/ical.net//NONSGML ical.net 4.0//EN
VERSION:2.0
BEGIN:VEVENT
CLASS:PUBLIC
CREATED:20260416T132458
DESCRIPTION:
DTEND:20260512T190000
DTSTAMP:20260416T122458Z
DTSTART:20260512T180000
LOCATION:Fosse Green Park\, \,NN10 0BG
SEQUENCE:0
SUMMARY:Police Community Surgery Fosse Green Park.
UID:31A802129949521A402738C2DA18A90B
END:VEVENT
END:VCALENDAR
