BEGIN:VCALENDAR
PRODID:-//github.com/rianjs/ical.net//NONSGML ical.net 4.0//EN
VERSION:2.0
BEGIN:VEVENT
CLASS:PUBLIC
CREATED:20260416T132123
DESCRIPTION:
DTEND:20260522T120000
DTSTAMP:20260416T122123Z
DTSTART:20260522T100000
LOCATION:Holy Trinity Church\, Saint Mary's Avenue\,CT9 3TN
SEQUENCE:0
STATUS:
SUMMARY:Police surgery
UID:AF4E86A295792008B9151A13CAF7294C
END:VEVENT
END:VCALENDAR
