BEGIN:VCALENDAR
PRODID:-//github.com/rianjs/ical.net//NONSGML ical.net 4.0//EN
VERSION:2.0
BEGIN:VEVENT
CLASS:PUBLIC
CREATED:20260416T131156
DESCRIPTION:Lake Haven School - Careers Week Talk
DTEND:20260422T120000
DTSTAMP:20260416T121156Z
DTSTART:20260422T103000
LOCATION:Lake Haven School\, Bazzard Road\,CV11 6QJ
SEQUENCE:0
STATUS:
SUMMARY:Lake Haven School - Careers Week Talk
UID:0169222A7BD5730929687616C112B21F
END:VEVENT
END:VCALENDAR
