BEGIN:VCALENDAR
PRODID:-//github.com/rianjs/ical.net//NONSGML ical.net 4.0//EN
VERSION:2.0
BEGIN:VEVENT
CLASS:PUBLIC
CREATED:20260416T130532
DESCRIPTION:
DTEND:20260424T170000
DTSTAMP:20260416T120532Z
DTSTART:20260424T160000
LOCATION:B&M Store\, Unit 6 Eaton Walk\,NN10 9SH
SEQUENCE:0
SUMMARY:B&M Car Park Police Surgery.
UID:0D660B5B5DC9183F38AC13C45183D8E2
END:VEVENT
END:VCALENDAR
