BEGIN:VCALENDAR
PRODID:-//github.com/rianjs/ical.net//NONSGML ical.net 4.0//EN
VERSION:2.0
BEGIN:VEVENT
CLASS:PUBLIC
CREATED:20260415T163615
DESCRIPTION:
DTEND:20260426T123000
DTSTAMP:20260415T153615Z
DTSTART:20260426T103000
LOCATION:The Forge\, \,ME9 8JN
SEQUENCE:0
STATUS:
SUMMARY:Borden & Grove Park Surgery
UID:9AF9F6B968E6D9D65BE6BD1AD3CCC6F6
END:VEVENT
END:VCALENDAR
