BEGIN:VCALENDAR
PRODID:-//github.com/rianjs/ical.net//NONSGML ical.net 4.0//EN
VERSION:2.0
BEGIN:VEVENT
CLASS:PUBLIC
CREATED:20260415T144315
DESCRIPTION:
DTEND:20260430T130000
DTSTAMP:20260415T134315Z
DTSTART:20260430T110000
LOCATION:St Edmund’s Church & Living Well\, Temple Hill\, Saint Edmunds Ro
 ad Temple Hill\,DA1 5ND
SEQUENCE:0
SUMMARY:Police surgery
UID:7FC2C79EDB61D9CEAD860D1E53AE4A0B
END:VEVENT
END:VCALENDAR
