BEGIN:VCALENDAR
PRODID:-//github.com/rianjs/ical.net//NONSGML ical.net 4.0//EN
VERSION:2.0
BEGIN:VEVENT
CLASS:PUBLIC
CREATED:20260415T131142
DESCRIPTION:
DTEND:20260514T123000
DTSTAMP:20260415T121142Z
DTSTART:20260514T083000
LOCATION:Moreton Morrell College (part of WCG)\, \,CV35 9BL
SEQUENCE:0
STATUS:
SUMMARY:NFU- Engagement Event
UID:207A895E5644DDFAC4652DCA32841C7F
END:VEVENT
END:VCALENDAR
