BEGIN:VCALENDAR
PRODID:-//github.com/rianjs/ical.net//NONSGML ical.net 4.0//EN
VERSION:2.0
BEGIN:VEVENT
CLASS:PUBLIC
CREATED:20260415T133808
DESCRIPTION:
DTEND:20260422T094500
DTSTAMP:20260415T123808Z
DTSTART:20260422T084500
LOCATION:Southam College\, Welsh Road West\,CV47 0JW
SEQUENCE:0
STATUS:
SUMMARY:ASB Assembly Southam College
END:VEVENT
END:VCALENDAR
