BEGIN:VCALENDAR
PRODID:-//github.com/rianjs/ical.net//NONSGML ical.net 4.0//EN
VERSION:2.0
BEGIN:VEVENT
CLASS:PUBLIC
CREATED:20260415T103910
DESCRIPTION:
DTEND:20260712T130000
DTSTAMP:20260415T093910Z
DTSTART:20260712T110000
LOCATION:TN14 6EA\, Church Lane\,TN14 6EA
SEQUENCE:0
STATUS:
SUMMARY:Drop In - Sundridge & Brasted Primary School
END:VEVENT
END:VCALENDAR
