BEGIN:VCALENDAR
PRODID:-//github.com/rianjs/ical.net//NONSGML ical.net 4.0//EN
VERSION:2.0
BEGIN:VEVENT
CLASS:PUBLIC
CREATED:20260415T075155
DESCRIPTION:
DTEND:20260616T110000
DTSTAMP:20260415T065155Z
DTSTART:20260616T090000
LOCATION:Hildenborough Farmers' Market\, 10 Riding Lane\,TN11 9HY
SEQUENCE:0
STATUS:
SUMMARY:Police stall at famers market
UID:97F5800270CBC4F8C1F9D450C1619758
END:VEVENT
END:VCALENDAR
