BEGIN:VCALENDAR
PRODID:-//github.com/rianjs/ical.net//NONSGML ical.net 4.0//EN
VERSION:2.0
BEGIN:VEVENT
CLASS:PUBLIC
CREATED:20260415T074906
DESCRIPTION:
DTEND:20260706T110000
DTSTAMP:20260415T064906Z
DTSTART:20260706T090000
LOCATION:Shipbourne Farmers Market\, Church Gate Cottages\,TN11 9PF
SEQUENCE:0
STATUS:
SUMMARY:Police stall at Famers market
END:VEVENT
END:VCALENDAR
