BEGIN:VCALENDAR
PRODID:-//github.com/rianjs/ical.net//NONSGML ical.net 4.0//EN
VERSION:2.0
BEGIN:VEVENT
CLASS:PUBLIC
CREATED:20260417T201430
DESCRIPTION:Drop in After school youth club - teenagers from 5 different s
 chools.
DTEND:20260512T163000
DTSTAMP:20260417T191430Z
DTSTART:20260512T153000
LOCATION:PE8 4AL\, North Street\,PE8 4AL
SEQUENCE:0
STATUS:
SUMMARY:WEST PORCH CAFE
END:VEVENT
END:VCALENDAR
