BEGIN:VCALENDAR
PRODID:-//github.com/rianjs/ical.net//NONSGML ical.net 4.0//EN
VERSION:2.0
BEGIN:VEVENT
CLASS:PUBLIC
CREATED:20260414T075738
DESCRIPTION:
DTEND:20260605T110000
DTSTAMP:20260414T065738Z
DTSTART:20260605T100000
LOCATION:The Salvation Army\, 115 Cudworth Road\,TN24 0BE
SEQUENCE:0
SUMMARY:Come and discuss any issues in your area with your local Beat Offi
 cer
UID:4FF69B120ED4CF0708D96E12B5A6905E
END:VEVENT
END:VCALENDAR
