BEGIN:VCALENDAR
PRODID:-//github.com/rianjs/ical.net//NONSGML ical.net 4.0//EN
VERSION:2.0
BEGIN:VEVENT
CLASS:PUBLIC
CREATED:20260414T070445
DESCRIPTION:
DTEND:20260520T160000
DTSTAMP:20260414T060445Z
DTSTART:20260520T140000
LOCATION:Shoreham Village Hall\, 27 High Street\,TN14 7TB
SEQUENCE:0
STATUS:
SUMMARY:Shoreham WI Meeting
UID:2DFF9D394CA193207788CD9AAB963C1C
END:VEVENT
END:VCALENDAR
