BEGIN:VCALENDAR
PRODID:-//github.com/rianjs/ical.net//NONSGML ical.net 4.0//EN
VERSION:2.0
BEGIN:VEVENT
CLASS:PUBLIC
CREATED:20260413T165623
DESCRIPTION:Foot patrol of Radford Semele with Radford Semele Parish Counc
 illor Josie Sanderson. To improve/promote partnership working\, community
  relations and discuss incidents/issues in the local area. Location(s) of
  interest\, ASB and community concern can be highlighted and resolutions 
 explored.
DTEND:20260429T120000
DTSTAMP:20260413T155623Z
DTSTART:20260429T100000
LOCATION:\,
SEQUENCE:0
STATUS:
SUMMARY:Ward Walk - Radford Semele - With Radford Semele Parish Councillor
  Josie Sanderson
UID:2AE7FC3299CC47308C35BB62BA516344
END:VEVENT
END:VCALENDAR
