BEGIN:VCALENDAR
PRODID:-//github.com/rianjs/ical.net//NONSGML ical.net 4.0//EN
VERSION:2.0
BEGIN:VEVENT
CLASS:PUBLIC
CREATED:20260413T150618
DESCRIPTION:Roman Ward Beat Officer - Drop in session / VAWG talk with SWA
 LE Foodbank
DTEND:20260803T133000
DTSTAMP:20260413T140618Z
DTSTART:20260803T123000
LOCATION:Net Church Swale Foodbank\,ME10 4BL
SEQUENCE:0
STATUS:
SUMMARY:Roman Ward Beat Officer - Drop in session / VAWG talk with SWALE F
 oodbank
UID:CB9E17160E5DFBF83859A66E23E4C827
END:VEVENT
END:VCALENDAR
