BEGIN:VCALENDAR
PRODID:-//github.com/rianjs/ical.net//NONSGML ical.net 4.0//EN
VERSION:2.0
BEGIN:VEVENT
CLASS:PUBLIC
CREATED:20260413T150347
DESCRIPTION:Roman Ward Beat Officer - Drop in session / VAWG talk with SWA
 LE Foodbank
DTEND:20260720T133000
DTSTAMP:20260413T140347Z
DTSTART:20260720T123000
LOCATION:Net Church Swale Foodbank\,ME10 4BL
SEQUENCE:0
STATUS:
SUMMARY:Roman Ward Beat Officer - Drop in session / VAWG talk with SWALE F
 oodbank
UID:15AB836D3FC2F94AE6D30FB9849F1A5C
END:VEVENT
END:VCALENDAR
