BEGIN:VCALENDAR
PRODID:-//github.com/rianjs/ical.net//NONSGML ical.net 4.0//EN
VERSION:2.0
BEGIN:VEVENT
CLASS:PUBLIC
CREATED:20260413T145537
DESCRIPTION:
DTEND:20260514T113000
DTSTAMP:20260413T135537Z
DTSTART:20260514T100000
LOCATION:St. Benedict's Church\, 9 Owen Street\,CV9 1DG
SEQUENCE:0
STATUS:
SUMMARY:Cuppa with Copper St Benedict's parish
UID:DF765A701F1EC31DF80BF66606916076
END:VEVENT
END:VCALENDAR
