BEGIN:VCALENDAR
PRODID:-//github.com/rianjs/ical.net//NONSGML ical.net 4.0//EN
VERSION:2.0
BEGIN:VEVENT
CLASS:PUBLIC
CREATED:20260413T145225
DESCRIPTION:Roman Ward Beat Officer - Drop in session / VAWG talk with SWA
 LE Foodbank
DTEND:20260622T133000
DTSTAMP:20260413T135225Z
DTSTART:20260622T123000
LOCATION:Net Church Swale Foodbank\,ME10 4BL
SEQUENCE:0
STATUS:
SUMMARY:Roman Ward Beat Officer - Drop in session / VAWG talk with SWALE F
 oodbank
UID:8E93E61E9A73C09703F017D3E4E8587B
END:VEVENT
END:VCALENDAR
