BEGIN:VCALENDAR
PRODID:-//github.com/rianjs/ical.net//NONSGML ical.net 4.0//EN
VERSION:2.0
BEGIN:VEVENT
CLASS:PUBLIC
CREATED:20260413T133702
DESCRIPTION:
DTEND:20260717T120000
DTSTAMP:20260413T123702Z
DTSTART:20260717T100000
LOCATION:Otford Methodist Church\, High Street\,TN14 5PH
SEQUENCE:0
STATUS:
SUMMARY:Otford Friday Coffee
UID:1A04213225DCE1274ED796EC4F43AF88
END:VEVENT
END:VCALENDAR
