BEGIN:VCALENDAR
PRODID:-//github.com/rianjs/ical.net//NONSGML ical.net 4.0//EN
VERSION:2.0
BEGIN:VEVENT
CLASS:PUBLIC
CREATED:20260413T122557
DESCRIPTION:Cuppa with a copper - Polesworth - Details to be confirmed clo
 sely to the time.
DTEND:20270114T142500
DTSTAMP:20260413T112557Z
DTSTART:20270114T122500
LOCATION:High Street\,B78
SEQUENCE:0
STATUS:
SUMMARY:Cuppa with a copper - Polesworth - Details to be confirmed closely
  to the time.
UID:5288740D06F50F660B65962F7DA93FA6
END:VEVENT
END:VCALENDAR
