BEGIN:VCALENDAR
PRODID:-//github.com/rianjs/ical.net//NONSGML ical.net 4.0//EN
VERSION:2.0
BEGIN:VEVENT
CLASS:PUBLIC
CREATED:20260413T122439
DESCRIPTION:Cuppa with a copper - Polesworth - Details to be confirmed clo
 sely to the time.
DTEND:20261015T142200
DTSTAMP:20260413T112439Z
DTSTART:20261015T122200
LOCATION:High Street\,B78
SEQUENCE:0
STATUS:
SUMMARY:Cuppa with a copper - Polesworth - Details to be confirmed closely
  to the time.
UID:810F155E67037757AE784C983DBB3D05
END:VEVENT
END:VCALENDAR
