BEGIN:VCALENDAR
PRODID:-//github.com/rianjs/ical.net//NONSGML ical.net 4.0//EN
VERSION:2.0
BEGIN:VEVENT
CLASS:PUBLIC
CREATED:20260413T122225
DESCRIPTION:Cuppa with a copper - Polesworth - Details to be confirmed clo
 sely to the time.
DTEND:20260827T142100
DTSTAMP:20260413T112225Z
DTSTART:20260827T122100
LOCATION:High Street\,B78
SEQUENCE:0
STATUS:
SUMMARY:Cuppa with a copper - Polesworth - Details to be confirmed closely
  to the time.
UID:18A8FE06F839C53BEBB77BAFD040B227
END:VEVENT
END:VCALENDAR
