BEGIN:VCALENDAR
PRODID:-//github.com/rianjs/ical.net//NONSGML ical.net 4.0//EN
VERSION:2.0
BEGIN:VEVENT
CLASS:PUBLIC
CREATED:20260413T122059
DESCRIPTION:Cuppa with a copper - Polesworth - Details to be confirmed clo
 sely to the time.
DTEND:20260625T141900
DTSTAMP:20260413T112059Z
DTSTART:20260625T121900
LOCATION:High Street\,B78
SEQUENCE:0
STATUS:
SUMMARY:Cuppa with a copper
UID:2DF239D5350DC397F3C7FDF32865FACE
END:VEVENT
END:VCALENDAR
