BEGIN:VCALENDAR
PRODID:-//github.com/rianjs/ical.net//NONSGML ical.net 4.0//EN
VERSION:2.0
BEGIN:VEVENT
CLASS:PUBLIC
CREATED:20260413T113119
DESCRIPTION:
DTEND:20260603T093000
DTSTAMP:20260413T103119Z
DTSTART:20260603T090000
LOCATION:Dobbies Garden Centre Ashford\, Rutherford Road\,TN25 4BN
SEQUENCE:0
SUMMARY:Coffee with a cop
UID:84E58A34CADD0BC868A243E86BE49773
END:VEVENT
END:VCALENDAR
