BEGIN:VCALENDAR
PRODID:-//github.com/rianjs/ical.net//NONSGML ical.net 4.0//EN
VERSION:2.0
BEGIN:VEVENT
CLASS:PUBLIC
CREATED:20260413T113240
DESCRIPTION:
DTEND:20260506T093000
DTSTAMP:20260413T103240Z
DTSTART:20260506T090000
LOCATION:Dobbies Garden Centre Ashford\, Rutherford Road\,TN25 4BN
SEQUENCE:0
STATUS:
SUMMARY:Coffee with a cop
END:VEVENT
END:VCALENDAR
