BEGIN:VCALENDAR
PRODID:-//github.com/rianjs/ical.net//NONSGML ical.net 4.0//EN
VERSION:2.0
BEGIN:VEVENT
CLASS:PUBLIC
CREATED:20260412T161107
DESCRIPTION:
DTEND:20260727T200000
DTSTAMP:20260412T151107Z
DTSTART:20260727T170000
LOCATION:All Saints Church\, Birchington\, Canterbury Road\,CT7 9AF
SEQUENCE:0
SUMMARY:Birchington Community Walk and Talk
UID:77613C8ED944723394D33320D85BE210
END:VEVENT
END:VCALENDAR
