BEGIN:VCALENDAR
PRODID:-//github.com/rianjs/ical.net//NONSGML ical.net 4.0//EN
VERSION:2.0
BEGIN:VEVENT
CLASS:PUBLIC
CREATED:20260412T110649
DESCRIPTION:The Lantern Community Centre Police Surgery
DTEND:20260514T170000
DTSTAMP:20260412T100649Z
DTSTART:20260514T160000
LOCATION:The Lantern\, Meadow Farm Drive\,SY1 4NG
SEQUENCE:0
STATUS:
SUMMARY:The Lantern Community Centre Police Surgery
UID:26F041F970F78119C5159CCB496E944C
END:VEVENT
END:VCALENDAR
