BEGIN:VCALENDAR
PRODID:-//github.com/rianjs/ical.net//NONSGML ical.net 4.0//EN
VERSION:2.0
BEGIN:VEVENT
CLASS:PUBLIC
CREATED:20260412T110530
DESCRIPTION:Harlescott Sunday Market Engagement Van
DTEND:20260510T120000
DTSTAMP:20260412T100530Z
DTSTART:20260510T110000
LOCATION:Shrewsbury Park & Ride\, \,SY1 4AP
SEQUENCE:0
STATUS:
SUMMARY:Harlescott Sunday Market Engagement Van
UID:1D67353760816BB35B408EADCBE2FB0C
END:VEVENT
END:VCALENDAR
