BEGIN:VCALENDAR
PRODID:-//github.com/rianjs/ical.net//NONSGML ical.net 4.0//EN
VERSION:2.0
BEGIN:VEVENT
CLASS:PUBLIC
CREATED:20260412T110336
DESCRIPTION:Sundorne Sports Village Engagement Van
DTEND:20260508T150000
DTSTAMP:20260412T100336Z
DTSTART:20260508T140000
LOCATION:Shrewsbury Sports Village\, Sundorne Road\,SY1 4RQ
SEQUENCE:0
STATUS:
SUMMARY:Sundorne Sports Village Engagement Van
UID:63709BC354625F8D4A882A2C8C2DBA4A
END:VEVENT
END:VCALENDAR
