BEGIN:VCALENDAR
PRODID:-//github.com/rianjs/ical.net//NONSGML ical.net 4.0//EN
VERSION:2.0
BEGIN:VEVENT
CLASS:PUBLIC
CREATED:20260412T083241
DESCRIPTION:Community meeting with local beat officers.
DTEND:20260616T110000
DTSTAMP:20260412T073241Z
DTSTART:20260616T100000
LOCATION:Felons Coffeehouse & Kentish Wine Bar\, 28-30 Saint Peter's Stree
 t\,CT1 2BL
SEQUENCE:0
STATUS:
SUMMARY:Meet Your Local Beat Officers
UID:D4627F41E820EB892B75EAA040D04F74
END:VEVENT
END:VCALENDAR
