BEGIN:VCALENDAR
PRODID:-//github.com/rianjs/ical.net//NONSGML ical.net 4.0//EN
VERSION:2.0
BEGIN:VEVENT
CLASS:PUBLIC
CREATED:20260411T222706
DESCRIPTION:Drop in
DTEND:20260429T120000
DTSTAMP:20260411T212706Z
DTSTART:20260429T100000
LOCATION:St Edmunds community cafe\, Saint Edmunds Road\,DA1 5ND
SEQUENCE:0
STATUS:
SUMMARY:Meet with a Cop
UID:44FEE08634B1F46C744AD49DB89D8239
END:VEVENT
END:VCALENDAR
