BEGIN:VCALENDAR
PRODID:-//github.com/rianjs/ical.net//NONSGML ical.net 4.0//EN
VERSION:2.0
BEGIN:VEVENT
CLASS:PUBLIC
CREATED:20260411T221800
DESCRIPTION:
DTEND:20260514T160000
DTSTAMP:20260411T211800Z
DTSTART:20260514T140000
LOCATION:Fleetdown Library\, \,DA2 6JZ
SEQUENCE:0
SUMMARY:Meet with a Cop
UID:1D8AE4CEA78946864B90FE0DA9FE909C
END:VEVENT
END:VCALENDAR
