BEGIN:VCALENDAR
PRODID:-//github.com/rianjs/ical.net//NONSGML ical.net 4.0//EN
VERSION:2.0
BEGIN:VEVENT
CLASS:PUBLIC
CREATED:20260411T221409
DESCRIPTION:
DTEND:20260424T120000
DTSTAMP:20260411T211409Z
DTSTART:20260424T100000
LOCATION:Lizzie's Café & Lounge Bar\, Hayes Road\,DA9 9DS
SEQUENCE:0
SUMMARY:Coffee with a Cop
UID:4A8D4884E0DC152248F7EFE4811ABCB5
END:VEVENT
END:VCALENDAR
