BEGIN:VCALENDAR
PRODID:-//github.com/rianjs/ical.net//NONSGML ical.net 4.0//EN
VERSION:2.0
BEGIN:VEVENT
CLASS:PUBLIC
CREATED:20260411T154301
DESCRIPTION:
DTEND:20260704T210000
DTSTAMP:20260411T144301Z
DTSTART:20260704T200000
LOCATION:Stoulton Village Hall\, Church Lane\,WR7 4RE
SEQUENCE:0
STATUS:
SUMMARY:Community Drop-in Stoulton
UID:BA6BA7890C10B8F1AE6773EC476F7413
END:VEVENT
END:VCALENDAR
