BEGIN:VCALENDAR
PRODID:-//github.com/rianjs/ical.net//NONSGML ical.net 4.0//EN
VERSION:2.0
BEGIN:VEVENT
CLASS:PUBLIC
CREATED:20260411T153104
DESCRIPTION:
DTEND:20260716T130000
DTSTAMP:20260411T143104Z
DTSTART:20260716T120000
LOCATION:Bredon\, \,GL20
SEQUENCE:0
STATUS:
SUMMARY:Community Drop-in Bredon
UID:DE6319FA59D245B41BB60E648F3F795C
END:VEVENT
END:VCALENDAR
