BEGIN:VCALENDAR
PRODID:-//github.com/rianjs/ical.net//NONSGML ical.net 4.0//EN
VERSION:2.0
BEGIN:VEVENT
CLASS:PUBLIC
CREATED:20260411T120817
DESCRIPTION:Public engagement meeting for local residents to come and spea
 k with their local beat officer about any concerns or issues they have in
  their area.
DTEND:20260624T163000
DTSTAMP:20260411T110817Z
DTSTART:20260624T150000
LOCATION:Costa Coffee\, 6 The Boulevard\,CT6 6GZ
SEQUENCE:0
STATUS:
SUMMARY:Coffee with a Cop @ Costa Coffee\, Sainsbury's
UID:E0FE67B7B9CAAB6B7DC6028690277C4A
END:VEVENT
END:VCALENDAR
