BEGIN:VCALENDAR
PRODID:-//github.com/rianjs/ical.net//NONSGML ical.net 4.0//EN
VERSION:2.0
BEGIN:VEVENT
CLASS:PUBLIC
CREATED:20260411T115623
DESCRIPTION:Public engagement meeting for local residents to come and spea
 k with their local beat officer about any concerns or issues they have in
  their area.
DTEND:20260616T120000
DTSTAMP:20260411T105623Z
DTSTART:20260616T103000
LOCATION:HatHats Coffee Reculver\, \,CT6 6SS
SEQUENCE:0
STATUS:
SUMMARY:Coffee with a Cop @ HatHats Coffee Reculver
UID:76A5B5E47414C4CE55314BCBCD950D07
END:VEVENT
END:VCALENDAR
