BEGIN:VCALENDAR
PRODID:-//github.com/rianjs/ical.net//NONSGML ical.net 4.0//EN
VERSION:2.0
BEGIN:VEVENT
CLASS:PUBLIC
CREATED:20260411T114627
DESCRIPTION:Public engagement meeting for local residents to come and spea
 k with their local beat officer about any concerns or issues they have in
  their area.
DTEND:20260605T113000
DTSTAMP:20260411T104627Z
DTSTART:20260605T100000
LOCATION:HatHats Coffee Herne Bay Central\, William Street\,CT6 5NX
SEQUENCE:0
STATUS:
SUMMARY:Coffee with a Cop @ HatHats (Heron Leisure Centre)
UID:9F811F62FF67FE8B7E0F549CECC8961F
END:VEVENT
END:VCALENDAR
