BEGIN:VCALENDAR
PRODID:-//github.com/rianjs/ical.net//NONSGML ical.net 4.0//EN
VERSION:2.0
BEGIN:VEVENT
CLASS:PUBLIC
CREATED:20260411T103309
DESCRIPTION:Community pantry at the octagon
DTEND:20260619T103000
DTSTAMP:20260411T093309Z
DTSTART:20260619T093000
LOCATION:WR14 3SQ\, Brook Farm Drive\,WR14 3SQ
SEQUENCE:0
STATUS:
SUMMARY:Surgery / Engagement
UID:493F774EFBE6B94EC51B662C70E14D82
END:VEVENT
END:VCALENDAR
