BEGIN:VCALENDAR
PRODID:-//github.com/rianjs/ical.net//NONSGML ical.net 4.0//EN
VERSION:2.0
BEGIN:VEVENT
CLASS:PUBLIC
CREATED:20260410T204426
DESCRIPTION:
DTEND:20260728T150000
DTSTAMP:20260410T194426Z
DTSTART:20260728T130000
LOCATION:Painters Forstal Community Hall\, Forstal Road\,ME13 0EN
SEQUENCE:0
STATUS:
SUMMARY:Community surgery
UID:9858FBEF97ACC3586148D7FF6879DA51
END:VEVENT
END:VCALENDAR
